BEGIN:VCALENDAR
VERSION:2.0
PRODID:icalendar-ruby
CALSCALE:GREGORIAN
METHOD:PUBLISH
BEGIN:VEVENT
DTSTAMP:20260423T001828Z
UID:14-1473209@fbcgolden.org
DTSTART:20261011T170000Z
DTEND:20261011T180000Z
CLASS:PUBLIC
CREATED:20260422T172035
DESCRIPTION:
LAST-MODIFIED:20260422T172035
LOCATION:1805 Washington Avenue\, Golden\, Colorado\, 80401
SUMMARY:Life Classes
URL;VALUE=URI:https://www.fbcgolden.org/events/life-classes/2026-10-11
ATTACH;FILENAME=Screenshot-2023-11-09-160156.png;FMTTYPE=image/png:https://
 dq5pwpg1q8ru0.cloudfront.net/2023/11/09/15/02/34/bbcc0589-47d4-438f-8b42-a
 3f48e1e374d/Screenshot-2023-11-09-160156.png
END:VEVENT
END:VCALENDAR
