BEGIN:VCALENDAR
VERSION:2.0
PRODID:icalendar-ruby
CALSCALE:GREGORIAN
METHOD:PUBLISH
BEGIN:VEVENT
DTSTAMP:20260422T230340Z
UID:22-1472591@fbcgolden.org
DTSTART:20261028T153000Z
DTEND:20261028T173000Z
CLASS:PUBLIC
CREATED:20260422T142802
DESCRIPTION:
LAST-MODIFIED:20260422T142802
LOCATION:Room 219
SUMMARY:International Ministry
URL;VALUE=URI:https://www.fbcgolden.org/events/international-ministry/2026-
 10-28
ATTACH;FILENAME=Screenshot-2023-11-09-160337.png;FMTTYPE=image/png:https://
 dq5pwpg1q8ru0.cloudfront.net/2023/11/09/15/04/16/1c133456-30bb-452b-8645-7
 7d6f36ad40c/Screenshot-2023-11-09-160337.png
END:VEVENT
END:VCALENDAR
