BEGIN:VCALENDAR
VERSION:2.0
PRODID:icalendar-ruby
CALSCALE:GREGORIAN
METHOD:PUBLISH
BEGIN:VEVENT
DTSTAMP:20260423T161845Z
UID:106-1476543@fbcgolden.org
DTSTART:20261021T180000Z
DTEND:20261021T180000Z
CLASS:PUBLIC
CREATED:20260423T083702
DESCRIPTION:\nBulletin\, TV Signs\, Friday Blast\, Calendar\, Website/App\,
  Call To Worship: Wednesday Noon\nBathroom Bugel:  2nd to last Monday of 
 the month (prior to the month it’s to be displayed)\nFellowship Hall/Fac
 ility Event Requests: Minimum of two weeks prior to event date. \n\n \nP
 lease contact the office for further details or to see if extensions can b
 e accommodated.  Thank You!
LAST-MODIFIED:20260423T083702
LOCATION:
SUMMARY:FBC Advertising Cut-Off:  WEDNESDAYS AT NOON
URL;VALUE=URI:https://www.fbcgolden.org/events/fbc-advertising-cut-off-wedn
 esdays-at-noon/2026-10-21
ATTACH;FILENAME=ADVERTISING-DEADLINES.jpg;FMTTYPE=image/jpeg:https://dq5pwp
 g1q8ru0.cloudfront.net/2025/05/14/17/50/14/eaa1fc6e-7b47-4e98-9d8a-86914c1
 5fd8c/ADVERTISING-DEADLINES.jpg
END:VEVENT
END:VCALENDAR
