BEGIN:VCALENDAR
VERSION:2.0
PRODID:icalendar-ruby
CALSCALE:GREGORIAN
METHOD:PUBLISH
BEGIN:VEVENT
DTSTAMP:20260422T161127Z
UID:125-1471038@fbcgolden.org
DTSTART:20261018T170000Z
DTEND:20261018T180000Z
CLASS:PUBLIC
CREATED:20260422T083744
DESCRIPTION:
LAST-MODIFIED:20260422T083744
LOCATION:Fellowship Hall
SUMMARY:College Life Class (meal to follow)
URL;VALUE=URI:https://www.fbcgolden.org/events/college-life-class-meal-to-f
 ollow/2026-10-18
ATTACH;FILENAME=College-Life-Class-TV.jpg;FMTTYPE=image/jpeg:https://dq5pwp
 g1q8ru0.cloudfront.net/2025/08/30/00/02/37/a215fc81-95ec-40c4-bf66-53eee4b
 9cf49/College-Life-Class-TV.jpg
END:VEVENT
END:VCALENDAR
