BEGIN:VCALENDAR
VERSION:2.0
PRODID:icalendar-ruby
CALSCALE:GREGORIAN
METHOD:PUBLISH
BEGIN:VEVENT
DTSTAMP:20260422T220205Z
UID:12-421536@fbcgolden.org
DTSTART:20240229T010000Z
DTEND:20240229T030000Z
CLASS:PUBLIC
CREATED:20240405T072325
DESCRIPTION:
LAST-MODIFIED:20240405T072325
LOCATION:1805 Washington Avenue\, Golden\, Colorado\, 80401
SUMMARY:Awana Clubs
URL;VALUE=URI:https://www.fbcgolden.org/events/awana-clubs/2024-02-28
ATTACH;FILENAME=Awana-logo.jpg;FMTTYPE=image/jpeg:https://dq5pwpg1q8ru0.clo
 udfront.net/2023/08/31/09/31/57/984e6ca3-be5b-4fc5-b0df-3b76ff9ea92e/Awana
 -logo.jpg
END:VEVENT
END:VCALENDAR
